BEGIN:VCALENDAR
VERSION:2.0
PRODID:-//Tukios.com/
BEGIN:VEVENT
UID:c9342931-8d58-48ab-842c-170e0a09ea04@www.harriganparksidefuneralhome.com
DTSTAMP:20260422T013112Z
DTSTART:20260427T150000Z
DTEND:20260427T160000Z
SUMMARY:Visitation
DESCRIPTION:
URL:https://www.harriganparksidefuneralhome.com/obituaries/alice-bruss
LOCATION: 628 N Water St  Manitowoc WI 54220
GEO:44.099992;-87.66173
END:VEVENT
END:VCALENDAR