BEGIN:VCALENDAR
VERSION:2.0
PRODID:-//Tukios.com/
BEGIN:VEVENT
UID:55bad9c8-6fa0-40ed-82d0-bb4f8dbc5b38@www.harriganparksidefuneralhome.com
DTSTAMP:20260422T013613Z
DTSTART:20260427T160000Z
DTEND:20260427T164500Z
SUMMARY:Funeral Service
DESCRIPTION:
URL:https://www.harriganparksidefuneralhome.com/obituaries/alice-bruss
LOCATION: 628 N Water St  Manitowoc WI 54220
GEO:44.099992;-87.66173
END:VEVENT
END:VCALENDAR