BEGIN:VCALENDAR
VERSION:2.0
PRODID:-//Tukios.com/
BEGIN:VEVENT
UID:a663874e-355a-49b4-8135-4362edd39dd6@www.harriganparksidefuneralhome.com
DTSTAMP:20260422T013414Z
DTSTART:20260427T170000Z
DTEND:20260427T180000Z
SUMMARY:Luncheon
DESCRIPTION:
URL:https://www.harriganparksidefuneralhome.com/obituaries/alice-bruss
LOCATION: 620 N Water St  Manitowoc WI 54220
GEO:44.0995205;-87.6614903
END:VEVENT
END:VCALENDAR