BEGIN:VCALENDAR
VERSION:2.0
PRODID:-//Tukios.com/
BEGIN:VEVENT
UID:a0511a4a-32dd-49fa-9494-600ae636d505@www.harriganparksidefuneralhome.com
DTSTAMP:20260422T022310Z
DTSTART:20260509T160000Z
DTEND:20260509T170000Z
SUMMARY:Mass
DESCRIPTION:
URL:https://www.harriganparksidefuneralhome.com/obituaries/john-resch
LOCATION:St. Peter The Fisherman Catholic Church 3201 Mishicot Road  Two 
	Rivers WI 54241
GEO:44.163573;-87.5812782
END:VEVENT
END:VCALENDAR