BEGIN:VCALENDAR
VERSION:2.0
PRODID:-//Tukios.com/
BEGIN:VEVENT
UID:34e2862a-bda1-4de5-82e8-d9718cb915d8@www.harriganparksidefuneralhome.com
DTSTAMP:20260422T022534Z
DTSTART:20260509T170000Z
DTEND:20260509T200000Z
SUMMARY:Visitation
DESCRIPTION:
URL:https://www.harriganparksidefuneralhome.com/obituaries/john-resch
LOCATION: 3201 Mishicot Road  Two Rivers WI 54241
GEO:44.163573;-87.5812782
END:VEVENT
END:VCALENDAR