BEGIN:VCALENDAR
VERSION:2.0
PRODID:-//Tukios.com/
BEGIN:VEVENT
UID:603076cb-caa2-4084-87e8-0e0ac06b9364@www.harriganparksidefuneralhome.com
DTSTAMP:20260424T235928Z
DTSTART:20260506T150000Z
DTEND:20260506T163000Z
SUMMARY:Visitation
DESCRIPTION:
URL:https://www.harriganparksidefuneralhome.com/obituaries/mark-kortens
LOCATION: 2426 North Rapids Road  Manitowoc WI 54220
GEO:44.1278578;-87.710597
END:VEVENT
END:VCALENDAR