BEGIN:VCALENDAR
VERSION:2.0
PRODID:-//Tukios.com/
BEGIN:VEVENT
UID:d39780f5-1767-4aa1-9983-f931eeb0d54f@www.harriganparksidefuneralhome.com
DTSTAMP:20260424T235800Z
DTSTART:20260506T163000Z
DTEND:20260506T171500Z
SUMMARY:Funeral Service
DESCRIPTION:
URL:https://www.harriganparksidefuneralhome.com/obituaries/mark-kortens
LOCATION: 2426 North Rapids Road  Manitowoc WI 54220
GEO:44.1278578;-87.710597
END:VEVENT
END:VCALENDAR