BEGIN:VCALENDAR
VERSION:2.0
PRODID:-//Tukios.com/
BEGIN:VEVENT
UID:444de7e1-195d-4828-8e9d-3f84395e62dd@www.harriganparksidefuneralhome.com
DTSTAMP:20260425T000218Z
DTSTART:20260506T173000Z
DTEND:20260506T183000Z
SUMMARY:Military Honors
DESCRIPTION:
URL:https://www.harriganparksidefuneralhome.com/obituaries/mark-kortens
LOCATION:Knollwood Memorial Gardens 1500 Wisconsin 310  Manitowoc WI 
	54220
GEO:44.1539656;-87.6676398
END:VEVENT
END:VCALENDAR