BEGIN:VCALENDAR
VERSION:2.0
PRODID:-//Tukios.com/
BEGIN:VEVENT
UID:89353dc3-c586-4cd7-a652-1e0f9473e46f@www.harriganparksidefuneralhome.com
DTSTAMP:20260424T235430Z
DTSTART:20260506T180000Z
DTEND:20260506T190000Z
SUMMARY:Luncheon
DESCRIPTION:
URL:https://www.harriganparksidefuneralhome.com/obituaries/mark-kortens
LOCATION: 2426 North Rapids Road  Manitowoc WI 54220
GEO:44.1278578;-87.710597
END:VEVENT
END:VCALENDAR